BEGIN:VCALENDAR
VERSION:2.0
PRODID:-//Nicole van Oss - ECPv6.15.20//NONSGML v1.0//EN
CALSCALE:GREGORIAN
METHOD:PUBLISH
X-ORIGINAL-URL:https://www.nossart.nl
X-WR-CALDESC:Evenementen voor Nicole van Oss
REFRESH-INTERVAL;VALUE=DURATION:PT1H
X-Robots-Tag:noindex
X-PUBLISHED-TTL:PT1H
BEGIN:VTIMEZONE
TZID:UTC
BEGIN:STANDARD
TZOFFSETFROM:+0000
TZOFFSETTO:+0000
TZNAME:UTC
DTSTART:20230101T000000
END:STANDARD
END:VTIMEZONE
BEGIN:VEVENT
DTSTART;VALUE=DATE:20240329
DTEND;VALUE=DATE:20240510
DTSTAMP:20260426T021646
CREATED:20220802T141042Z
LAST-MODIFIED:20240326T094732Z
UID:3700-1711670400-1715299199@www.nossart.nl
SUMMARY:29 maart - 9 mei 2024 Duo-expositie 'ORGANICS: Nature speaks' CaroArtGallery Deventer
DESCRIPTION:
URL:https://www.nossart.nl/event/expositie-caro-art-gallery-deventer/
LOCATION:CaroArtGallery\, Golstraat 7\, Deventer\, 7411 BN
END:VEVENT
END:VCALENDAR