BEGIN:VCALENDAR
VERSION:2.0
PRODID:-//Nicole van Oss - ECPv6.15.20//NONSGML v1.0//EN
CALSCALE:GREGORIAN
METHOD:PUBLISH
X-ORIGINAL-URL:https://www.nossart.nl
X-WR-CALDESC:Evenementen voor Nicole van Oss
REFRESH-INTERVAL;VALUE=DURATION:PT1H
X-Robots-Tag:noindex
X-PUBLISHED-TTL:PT1H
BEGIN:VTIMEZONE
TZID:UTC
BEGIN:STANDARD
TZOFFSETFROM:+0000
TZOFFSETTO:+0000
TZNAME:UTC
DTSTART:20240101T000000
END:STANDARD
END:VTIMEZONE
BEGIN:VEVENT
DTSTART;TZID=UTC:20251108T100000
DTEND;TZID=UTC:20251108T170000
DTSTAMP:20260424T193743
CREATED:20250205T094326Z
LAST-MODIFIED:20250205T135113Z
UID:4357-1762596000-1762621200@www.nossart.nl
SUMMARY:Deelnemer Landelijk Atelierweekend november 2025
DESCRIPTION:
URL:https://www.nossart.nl/event/deelnemer-landelijk-atelierweekend-2/
LOCATION:Atelier Nicole van Oss\, Fielepien 4\, Gemert\, 5422 DL
END:VEVENT
END:VCALENDAR