BEGIN:VCALENDAR
VERSION:2.0
PRODID:-//Nicole van Oss - ECPv6.15.20//NONSGML v1.0//EN
CALSCALE:GREGORIAN
METHOD:PUBLISH
X-WR-CALNAME:Nicole van Oss
X-ORIGINAL-URL:https://www.nossart.nl
X-WR-CALDESC:Evenementen voor Nicole van Oss
REFRESH-INTERVAL;VALUE=DURATION:PT1H
X-Robots-Tag:noindex
X-PUBLISHED-TTL:PT1H
BEGIN:VTIMEZONE
TZID:UTC
BEGIN:STANDARD
TZOFFSETFROM:+0000
TZOFFSETTO:+0000
TZNAME:UTC
DTSTART:20250101T000000
END:STANDARD
END:VTIMEZONE
BEGIN:VEVENT
DTSTART;VALUE=DATE:20260221
DTEND;VALUE=DATE:20260516
DTSTAMP:20260424T120911
CREATED:20250714T120723Z
LAST-MODIFIED:20251008T075730Z
UID:4590-1771632000-1778889599@www.nossart.nl
SUMMARY:Solo Expositie 'Gesmolten Verbeelding' bij De Polderij in Maassluis
DESCRIPTION:Maak voor een bezoek een afspraak.
URL:https://www.nossart.nl/event/solo-expositie-bij-de-polderij-in-maassluis/
END:VEVENT
END:VCALENDAR