BEGIN:VCALENDAR
VERSION:2.0
PRODID:-//Nicole van Oss - ECPv6.15.20//NONSGML v1.0//EN
CALSCALE:GREGORIAN
METHOD:PUBLISH
X-WR-CALNAME:Nicole van Oss
X-ORIGINAL-URL:https://www.nossart.nl
X-WR-CALDESC:Evenementen voor Nicole van Oss
REFRESH-INTERVAL;VALUE=DURATION:PT1H
X-Robots-Tag:noindex
X-PUBLISHED-TTL:PT1H
BEGIN:VTIMEZONE
TZID:UTC
BEGIN:STANDARD
TZOFFSETFROM:+0000
TZOFFSETTO:+0000
TZNAME:UTC
DTSTART:20190101T000000
END:STANDARD
END:VTIMEZONE
BEGIN:VEVENT
DTSTART;TZID=UTC:20260412T193000
DTEND;TZID=UTC:20260412T235900
DTSTAMP:20260424T153620
CREATED:20260330T133633Z
LAST-MODIFIED:20260330T133754Z
UID:4802-1776022200-1776038340@www.nossart.nl
SUMMARY:Deelnemend kunstenaar bij Symfonie in Beeld door Koninklijke Harmonie O&U en Het Oude Raadhuis\, Beek en Donk
DESCRIPTION:Symfonie in Beeld: Muziek die je ziet en voelt\nBron: Mooi Laarbeek \n\nBEEK EN DONK – Hoe klinkt een schilderij? En hoe ziet muziek eruit? Op zondagavond 12 april krijgt u in Muziekcentrum Het Anker het antwoord tijdens het bijzondere concert ‘Symfonie in Beeld’. Koninklijke Harmonie Oefening en Uitspanning nodigt luisteraars uit voor een avond waarin muziek niet alleen wordt gehoord\, maar ook tot de verbeelding spreekt. \n\n\n\nWat dit concert extra bijzonder maakt\, is de rol van de aanwezige kunstenaars. Tijdens de uitvoering laten zij zich ter plekke inspireren door de muziek. Terwijl de harmonie speelt\, ontstaan de eerste ideeën\, schetsen en gevoelens die later uitgroeien tot nieuwe kunstwerken. U bent als publiek daarmee getuige van het allereerste moment van een creatief proces dat muziek en beeld samenbrengt. Symfonie in Beeld is geen traditioneel concert\, maar een ervaring waarin verhalen\, emoties en verbeelding centraal staan. Of u nu een fervent muziekliefhebber bent\, houdt van kunst of gewoon nieuwsgierig bent naar iets bijzonders: dit concert biedt voor ieder wat wils. \nDe avond vormt bovendien het startpunt van een groter project. De kunstwerken die uit het concert voortkomen\, zijn later te bewonderen tijdens een tentoonstelling in ’t Oude Raadhuis in Beek en Donk. Wie het concert bezoekt\, hoort dus niet alleen de muziek\, maar legt ook de basis voor wat later te zien zal zijn. Het concert begint op zondag 12 april om 19.30 uur in Muziekcentrum Het Anker. Entreekaarten zijn voor €10\,00 verkrijgbaar via www.oenu.nl en bij Fietsvakman Van den Berg en Wetzel Optiek Optometrie & Horen in Beek en Donk. Laat u verrassen\, laat u meenemen én ontdek hoe muziek zichtbaar wordt tijdens Symfonie in Beeld.
URL:https://www.nossart.nl/event/deelnemend-kunstenaar-bij-symfonie-in-beeld-door-koninklijke-harmonie-ou-en-het-oude-raadhuis-beek-en-donk/
LOCATION:Muziekcentrum Het Anker\, Pater Vogelsstraat 39\, Beek en Donk\, 5741 JE
END:VEVENT
BEGIN:VEVENT
DTSTART;VALUE=DATE:20251129
DTEND;VALUE=DATE:20260309
DTSTAMP:20260424T153620
CREATED:20260223T145908Z
LAST-MODIFIED:20260223T145908Z
UID:4713-1764374400-1773014399@www.nossart.nl
SUMMARY:Deelnemer Expositie 'Breuken en Scheuren'in Museum Het Mug Gemert
DESCRIPTION:Bezoekinformatie\nHet MUG is geopend op zaterdag- en zondagmiddag van 13.00 tot 17.00 uur en is in het eerste jaar gratis toegankelijk.
URL:https://www.nossart.nl/event/deelnemer-expositie-breuken-en-scheurenin-museum-het-mug-gemert/
LOCATION:Museum Het Mug Gemert\, Valeriusstraat 33\, Gemert\, 5421 TD
END:VEVENT
BEGIN:VEVENT
DTSTART;TZID=UTC:20251109T100000
DTEND;TZID=UTC:20251109T170000
DTSTAMP:20260424T153620
CREATED:20250205T094534Z
LAST-MODIFIED:20250205T135053Z
UID:4359-1762682400-1762707600@www.nossart.nl
SUMMARY:Deelnemer Landelijk Atelierweekend november 2025
DESCRIPTION:
URL:https://www.nossart.nl/event/deelnemer-landelijk-atelierweekend-3/
LOCATION:Atelier Nicole van Oss\, Fielepien 4\, Gemert\, 5422 DL
END:VEVENT
BEGIN:VEVENT
DTSTART;TZID=UTC:20251108T100000
DTEND;TZID=UTC:20251108T170000
DTSTAMP:20260424T153620
CREATED:20250205T094326Z
LAST-MODIFIED:20250205T135113Z
UID:4357-1762596000-1762621200@www.nossart.nl
SUMMARY:Deelnemer Landelijk Atelierweekend november 2025
DESCRIPTION:
URL:https://www.nossart.nl/event/deelnemer-landelijk-atelierweekend-2/
LOCATION:Atelier Nicole van Oss\, Fielepien 4\, Gemert\, 5422 DL
END:VEVENT
BEGIN:VEVENT
DTSTART;VALUE=DATE:20251030
DTEND;VALUE=DATE:20251031
DTSTAMP:20260424T153620
CREATED:20250723T092118Z
LAST-MODIFIED:20250723T092308Z
UID:4610-1761782400-1761868799@www.nossart.nl
SUMMARY:Deelnemer Cultuurcafé Kunstkring Sint Anthonis
DESCRIPTION:Donderdag 30 oktober 2025 \nOntvangst: vanaf 19.30u \nAanvang: 20.00u \nLokatie: Ontmoetingscentrum Oelbroeck \nBreestraat 1d\, 5845 AX Sint Anthonis
URL:https://www.nossart.nl/event/deelnemer-cultuurcafe-kunstkring-sint-anthonis/
END:VEVENT
BEGIN:VEVENT
DTSTART;TZID=UTC:20250914T110000
DTEND;TZID=UTC:20250914T170000
DTSTAMP:20260424T153620
CREATED:20250627T102007Z
LAST-MODIFIED:20250627T102132Z
UID:4575-1757847600-1757869200@www.nossart.nl
SUMMARY:Deelnemer Open Dag Biologische Wijngaard By Ypma
DESCRIPTION:  \nDeelnemer Open Dag Wijngaard By Ypma \nZondag 14 september 2025 \nVan 11:00 tot 17:00 uur \nOploseweg 9\, 5764 PJ De Rips \nGratis entree\, iedereen is welkom
URL:https://www.nossart.nl/event/deelnemer-open-dag-wijngaard-by-ypma/
END:VEVENT
BEGIN:VEVENT
DTSTART;VALUE=DATE:20250607
DTEND;VALUE=DATE:20250623
DTSTAMP:20260424T153620
CREATED:20250621T102520Z
LAST-MODIFIED:20250621T102826Z
UID:4551-1749254400-1750636799@www.nossart.nl
SUMMARY:Deelnemer openingsexpositie MUG - Museum Gemert
DESCRIPTION:Open elke zaterdag en zondag van 13:00 – 17:00 uur \nLocatie: Valeriusstraat 33\, 5421 TR\, Gemert
URL:https://www.nossart.nl/event/deelnemer-openingsexpositie-mug-museum-gemert/
END:VEVENT
BEGIN:VEVENT
DTSTART;TZID=UTC:20250504T140000
DTEND;TZID=UTC:20250504T170000
DTSTAMP:20260424T153620
CREATED:20250402T062254Z
LAST-MODIFIED:20250415T153856Z
UID:4500-1746367200-1746378000@www.nossart.nl
SUMMARY:Laatste dag solo Expositie 'Gesmolten Verbeelding' Kunstpodium 't Oude Raadhuis Beek en Donk
DESCRIPTION:Solo expositie Kunstpodium ’t Oude Raadhuis Beek en Donk\nVan zaterdag 12 april t/m zondag 4 mei 2025 \nOpeningstijden: elke zaterdag en zondag van 14:00 – 17:00 uur \nVernissage (feestelijke opening) zaterdag 12 april van 16:00 – 17:00 uur \nExtra open: \n4 mei Koffieconcert Gitaar Glenn de Roo van 11:00 – ca 12:30 uur. \nWilt u aanwezig zijn bij het koffieconcert\, meldt u nu al aan via e-mail: info@oudraadhuis.nl met in de onderwerpregel “Koffieconcert 04-05”\, en geef het aantal te reserveren zitplaatsen door. \nHet is een intieme zaal\, met een beperkt aantal zitplaatsen dus meld u snel aan. Vol is helaas vol. \nReserveren geldt alleen voor het Koffieconcert. \nDe expositie is vanaf 14:00uur vrij toegankelijk. \n(De expositie is op de 1e etage van ’t Oude Raadhuis\, er is een kleine traplift aanwezig.)
URL:https://www.nossart.nl/event/solo-expositie-gesmolten-verbeelding-kunstpodium-t-oude-raadhuis-beek-en-donk-3/
LOCATION:Kunstpodium ’t Oude Raadhuis\, Heuvelplein 8\, Beek en Donk
END:VEVENT
BEGIN:VEVENT
DTSTART;TZID=UTC:20250503T140000
DTEND;TZID=UTC:20250503T170000
DTSTAMP:20260424T153620
CREATED:20250402T061927Z
LAST-MODIFIED:20250415T153914Z
UID:4498-1746280800-1746291600@www.nossart.nl
SUMMARY:Solo Expositie 'Gesmolten Verbeelding' Kunstpodium 't Oude Raadhuis Beek en Donk
DESCRIPTION:Solo expositie Kunstpodium ’t Oude Raadhuis Beek en Donk\nVan zaterdag 12 april t/m zondag 4 mei 2025 \nOpeningstijden: elke zaterdag en zondag van 14:00 – 17:00 uur \nVernissage (feestelijke opening) zaterdag 12 april van 16:00 – 17:00 uur \nExtra open: \n4 mei Koffieconcert Gitaar Glenn de Roo van 11:00 – ca 12:30 uur. \nWilt u aanwezig zijn bij het koffieconcert\, meldt u nu al aan via e-mail: info@oudraadhuis.nl met in de onderwerpregel “Koffieconcert 04-05”\, en geef het aantal te reserveren zitplaatsen door. \nHet is een intieme zaal\, met een beperkt aantal zitplaatsen dus meld u snel aan. Vol is helaas vol. \nReserveren geldt alleen voor het Koffieconcert. \nDe expositie is vanaf 14:00uur vrij toegankelijk. \n(De expositie is op de 1e etage van ’t Oude Raadhuis\, er is een kleine traplift aanwezig.)
URL:https://www.nossart.nl/event/solo-expositie-gesmolten-verbeelding-kunstpodium-t-oude-raadhuis-beek-en-donk-5/
LOCATION:Kunstpodium ’t Oude Raadhuis\, Heuvelplein 8\, Beek en Donk
END:VEVENT
BEGIN:VEVENT
DTSTART;TZID=UTC:20250427T140000
DTEND;TZID=UTC:20250427T170000
DTSTAMP:20260424T153620
CREATED:20250402T061742Z
LAST-MODIFIED:20250415T153939Z
UID:4496-1745762400-1745773200@www.nossart.nl
SUMMARY:Solo Expositie 'Gesmolten Verbeelding' Kunstpodium 't Oude Raadhuis Beek en Donk
DESCRIPTION:Solo expositie Kunstpodium ’t Oude Raadhuis Beek en Donk\nVan zaterdag 12 april t/m zondag 4 mei 2025 \nOpeningstijden: elke zaterdag en zondag van 14:00 – 17:00 uur \nVernissage (feestelijke opening) zaterdag 12 april van 16:00 – 17:00 uur \nExtra open: \n4 mei Koffieconcert Gitaar Glenn de Roo van 11:00 – ca 12:30 uur. \nWilt u aanwezig zijn bij het koffieconcert\, meldt u nu al aan via e-mail: info@oudraadhuis.nl met in de onderwerpregel “Koffieconcert 04-05”\, en geef het aantal te reserveren zitplaatsen door. \nHet is een intieme zaal\, met een beperkt aantal zitplaatsen dus meld u snel aan. Vol is helaas vol. \nReserveren geldt alleen voor het Koffieconcert. \nDe expositie is vanaf 14:00uur vrij toegankelijk. \n(De expositie is op de 1e etage van ’t Oude Raadhuis\, er is een kleine traplift aanwezig.)
URL:https://www.nossart.nl/event/solo-expositie-gesmolten-verbeelding-kunstpodium-t-oude-raadhuis-beek-en-donk-4/
LOCATION:Kunstpodium ’t Oude Raadhuis\, Heuvelplein 8\, Beek en Donk
END:VEVENT
BEGIN:VEVENT
DTSTART;TZID=UTC:20250426T110000
DTEND;TZID=UTC:20250426T160000
DTSTAMP:20260424T153620
CREATED:20250401T131901Z
LAST-MODIFIED:20250415T154005Z
UID:4438-1745665200-1745683200@www.nossart.nl
SUMMARY:Koningsdag extra open Expositie 'Gesmolten Verbeelding' Kunstpodium 't Oude Raadhuis\, Beek en Donk
DESCRIPTION:Solo expositie Kunstpodium ’t Oude Raadhuis Beek en Donk\nVan zaterdag 12 april t/m zondag 4 mei 2025\nOpeningstijden: elke zaterdag en zondag van 14:00 – 17:00 uur\n\n \nVernissage (feestelijke opening) zaterdag 12 april van 16:00 – 17:00 uur\n\n \nExtra open:\n\n \n26 april viering Koningsdag open van 11:00 – 16:00 uur\n\n \n4 mei Koffieconcert Gitaar Glenn de Roo van 11:00 – ca 12:30 uur.\n\n \nWilt u aanwezig zijn bij het koffieconcert\, meldt u nu al aan via e-mail: info@oudraadhuis.nl met in de onderwerpregel “Koffieconcert 04-05”\, en geef het aantal te reserveren zitplaatsen door.\n\n \nHet is een intieme zaal\, met een beperkt aantal zitplaatsen dus meld u snel aan. Vol is helaas vol. \nReserveren geldt alleen voor het Koffieconcert.\n\n \nDe expositie is vanaf 14:00uur vrij toegankelijk. \n(De expositie is op de 1e etage van ’t Oude Raadhuis\, er is een kleine traplift aanwezig.)
URL:https://www.nossart.nl/event/extra-open-expositie-gesmolten-verbeelding-kunstpodium-t-oude-raadhuis-beek-en-donk/
LOCATION:Kunstpodium ’t Oude Raadhuis\, Heuvelplein 8\, Beek en Donk
END:VEVENT
BEGIN:VEVENT
DTSTART;TZID=UTC:20250421T140000
DTEND;TZID=UTC:20250421T170000
DTSTAMP:20260424T153620
CREATED:20250401T132505Z
LAST-MODIFIED:20250415T154040Z
UID:4446-1745244000-1745254800@www.nossart.nl
SUMMARY:2e Paasdag extra open Expositie 'Gesmolten Verbeelding' Kunstpodium 't Oude Raadhuis\, Beek en Donk
DESCRIPTION:Solo expositie Kunstpodium ’t Oude Raadhuis Beek en Donk\nVan zaterdag 12 april t/m zondag 4 mei 2025\nOpeningstijden: elke zaterdag en zondag van 14:00 – 17:00 uur\n\n \nVernissage (feestelijke opening) zaterdag 12 april van 16:00 – 17:00 uur\n\n \nExtra open:\n\n \n1e en 2e Paasdag open van 14:00 – 17:00 uur\n\n \n26 april viering Koningsdag open van 11:00 – 16:00 uur\n\n \n4 mei Koffieconcert Gitaar Glenn de Roo van 11:00 – ca 12:30 uur.\n\n \nWilt u aanwezig zijn bij het koffieconcert\, meldt u nu al aan via e-mail: info@oudraadhuis.nl met in de onderwerpregel “Koffieconcert 04-05”\, en geef het aantal te reserveren zitplaatsen door.\n\n \nHet is een intieme zaal\, met een beperkt aantal zitplaatsen dus meld u snel aan. Vol is helaas vol. \nReserveren geldt alleen voor het Koffieconcert.\n\n \nDe expositie is vanaf 14:00uur vrij toegankelijk. \n(De expositie is op de 1e etage van ’t Oude Raadhuis\, er is een kleine traplift aanwezig.)
URL:https://www.nossart.nl/event/2e-paasdag-extra-open-expositie-gesmolten-verbeelding-kunstpodium-t-oude-raadhuis-beek-en-donk/
LOCATION:Kunstpodium ’t Oude Raadhuis\, Heuvelplein 8\, Beek en Donk
END:VEVENT
BEGIN:VEVENT
DTSTART;TZID=UTC:20250420T140000
DTEND;TZID=UTC:20250420T170000
DTSTAMP:20260424T153620
CREATED:20250401T132208Z
LAST-MODIFIED:20250415T154110Z
UID:4442-1745157600-1745168400@www.nossart.nl
SUMMARY:1e Paasdag open Expositie 'Gesmolten Verbeelding' Kunstpodium 't Oude Raadhuis\, Beek en Donk
DESCRIPTION:Solo expositie Kunstpodium ’t Oude Raadhuis Beek en Donk\nVan zaterdag 12 april t/m zondag 4 mei 2025\nOpeningstijden: elke zaterdag en zondag van 14:00 – 17:00 uur\n\n \nVernissage (feestelijke opening) zaterdag 12 april van 16:00 – 17:00 uur\n\n \nExtra open:\n\n \n1e en 2e Paasdag open van 14:00 – 17:00 uur\n\n \n26 april viering Koningsdag open van 11:00 – 16:00 uur\n\n \n4 mei Koffieconcert Gitaar Glenn de Roo van 11:00 – ca 12:30 uur.\n\n \nWilt u aanwezig zijn bij het koffieconcert\, meldt u nu al aan via e-mail: info@oudraadhuis.nl met in de onderwerpregel “Koffieconcert 04-05”\, en geef het aantal te reserveren zitplaatsen door.\n\n \nHet is een intieme zaal\, met een beperkt aantal zitplaatsen dus meld u snel aan. Vol is helaas vol. \nReserveren geldt alleen voor het Koffieconcert.\n\n \nDe expositie is vanaf 14:00uur vrij toegankelijk. \n(De expositie is op de 1e etage van ’t Oude Raadhuis\, er is een kleine traplift aanwezig.)
URL:https://www.nossart.nl/event/1e-en-2e-paasdag-open-expositie-gesmolten-verbeelding-kunstpodium-t-oude-raadhuis-beek-en-donk/
LOCATION:Kunstpodium ’t Oude Raadhuis\, Heuvelplein 8\, Beek en Donk
END:VEVENT
BEGIN:VEVENT
DTSTART;TZID=UTC:20250419T140000
DTEND;TZID=UTC:20250419T170000
DTSTAMP:20260424T153620
CREATED:20250402T060847Z
LAST-MODIFIED:20250415T154141Z
UID:4484-1745071200-1745082000@www.nossart.nl
SUMMARY:Solo Expositie 'Gesmolten Verbeelding' Kunstpodium 't Oude Raadhuis Beek en Donk
DESCRIPTION:Solo expositie Kunstpodium ’t Oude Raadhuis Beek en Donk\nVan zaterdag 12 april t/m zondag 4 mei 2025 \nOpeningstijden: elke zaterdag en zondag van 14:00 – 17:00 uur \nVernissage (feestelijke opening) zaterdag 12 april van 16:00 – 17:00 uur \nExtra open: \n1e en 2e Paasdag open van 14:00 – 17:00 uur \n26 april viering Koningsdag open van 11:00 – 16:00 uur \n4 mei Koffieconcert Gitaar Glenn de Roo van 11:00 – ca 12:30 uur. \nWilt u aanwezig zijn bij het koffieconcert\, meldt u nu al aan via e-mail: info@oudraadhuis.nl met in de onderwerpregel “Koffieconcert 04-05”\, en geef het aantal te reserveren zitplaatsen door. \nHet is een intieme zaal\, met een beperkt aantal zitplaatsen dus meld u snel aan. Vol is helaas vol. \nReserveren geldt alleen voor het Koffieconcert. \nDe expositie is vanaf 14:00uur vrij toegankelijk. \n(De expositie is op de 1e etage van ’t Oude Raadhuis\, er is een kleine traplift aanwezig.)
URL:https://www.nossart.nl/event/solo-expositie-gesmolten-verbeelding-kunstpodium-t-oude-raadhuis-beek-en-donk-2/
LOCATION:Kunstpodium ’t Oude Raadhuis\, Heuvelplein 8\, Beek en Donk
END:VEVENT
BEGIN:VEVENT
DTSTART;TZID=UTC:20250413T140000
DTEND;TZID=UTC:20250413T170000
DTSTAMP:20260424T153620
CREATED:20250402T060310Z
LAST-MODIFIED:20250415T154225Z
UID:4482-1744552800-1744563600@www.nossart.nl
SUMMARY:Solo Expositie 'Gesmolten Verbeelding' Kunstpodium 't Oude Raadhuis Beek en Donk
DESCRIPTION:Solo expositie Kunstpodium ’t Oude Raadhuis Beek en Donk\nVan zaterdag 12 april t/m zondag 4 mei 2025 \nOpeningstijden: elke zaterdag en zondag van 14:00 – 17:00 uur \nVernissage (feestelijke opening) zaterdag 12 april van 16:00 – 17:00 uur \nExtra open: \n1e en 2e Paasdag open van 14:00 – 17:00 uur \n26 april viering Koningsdag open van 11:00 – 16:00 uur \n4 mei Koffieconcert Gitaar Glenn de Roo van 11:00 – ca 12:30 uur. \nWilt u aanwezig zijn bij het koffieconcert\, meldt u nu al aan via e-mail: info@oudraadhuis.nl met in de onderwerpregel “Koffieconcert 04-05”\, en geef het aantal te reserveren zitplaatsen door. \nHet is een intieme zaal\, met een beperkt aantal zitplaatsen dus meld u snel aan. Vol is helaas vol. \nReserveren geldt alleen voor het Koffieconcert. \nDe expositie is vanaf 14:00uur vrij toegankelijk. \n(De expositie is op de 1e etage van ’t Oude Raadhuis\, er is een kleine traplift aanwezig.)
URL:https://www.nossart.nl/event/solo-expositie-gesmolten-verbeelding-kunstpodium-t-oude-raadhuis-beek-en-donk/
LOCATION:Kunstpodium ’t Oude Raadhuis\, Heuvelplein 8\, Beek en Donk
END:VEVENT
BEGIN:VEVENT
DTSTART;TZID=UTC:20250412T140000
DTEND;TZID=UTC:20250412T170000
DTSTAMP:20260424T153620
CREATED:20240328T085305Z
LAST-MODIFIED:20250415T154255Z
UID:4155-1744466400-1744477200@www.nossart.nl
SUMMARY:Solo Expositie 'Gesmolten Verbeelding' Kunstpodium 't Oude Raadhuis Beek en Donk
DESCRIPTION:Solo expositie Kunstpodium ’t Oude Raadhuis Beek en Donk\nVan zaterdag 12 april t/m zondag 4 mei 2025\nOpeningstijden: elke zaterdag en zondag van 14:00 – 17:00 uur\n\n \nVernissage (feestelijke opening) zaterdag 12 april van 16:00 – 17:00 uur\n\n \nExtra open:\n\n \n1e en 2e Paasdag open van 14:00 – 17:00 uur\n\n \n26 april viering Koningsdag open van 11:00 – 16:00 uur\n\n \n4 mei Koffieconcert Gitaar Glenn de Roo van 11:00 – ca 12:30 uur.\n\n \nWilt u aanwezig zijn bij het koffieconcert\, meldt u nu al aan via e-mail: info@oudraadhuis.nl met in de onderwerpregel “Koffieconcert 04-05”\, en geef het aantal te reserveren zitplaatsen door.\n\n \nHet is een intieme zaal\, met een beperkt aantal zitplaatsen dus meld u snel aan. Vol is helaas vol. \nReserveren geldt alleen voor het Koffieconcert.\n\n \nDe expositie is vanaf 14:00uur vrij toegankelijk. \n(De expositie is op de 1e etage van ’t Oude Raadhuis\, er is een kleine traplift aanwezig.)
URL:https://www.nossart.nl/event/solo-expositie-kunstpodium-t-oude-raadhuis/
LOCATION:Kunstpodium ’t Oude Raadhuis\, Heuvelplein 8\, Beek en Donk
END:VEVENT
BEGIN:VEVENT
DTSTART;TZID=UTC:20240922T120000
DTEND;TZID=UTC:20240922T170000
DTSTAMP:20260424T153620
CREATED:20240728T173219Z
LAST-MODIFIED:20240728T173219Z
UID:4196-1727006400-1727024400@www.nossart.nl
SUMMARY:Deelnemer Nature Art Fair - Flower Art Museum - Aalsmeer
DESCRIPTION:
URL:https://www.nossart.nl/event/deelnemer-nature-art-fair-flower-art-museum-aalsmeer-2/
END:VEVENT
BEGIN:VEVENT
DTSTART;TZID=UTC:20240921T120000
DTEND;TZID=UTC:20240921T170000
DTSTAMP:20260424T153620
CREATED:20240728T173100Z
LAST-MODIFIED:20240728T173100Z
UID:4194-1726920000-1726938000@www.nossart.nl
SUMMARY:Deelnemer Nature Art Fair - Flower Art Museum - Aalsmeer
DESCRIPTION:
URL:https://www.nossart.nl/event/deelnemer-nature-art-fair-flower-art-museum-aalsmeer/
END:VEVENT
BEGIN:VEVENT
DTSTART;VALUE=DATE:20240519
DTEND;VALUE=DATE:20240521
DTSTAMP:20260424T153620
CREATED:20240222T150009Z
LAST-MODIFIED:20240328T102813Z
UID:4033-1716076800-1716249599@www.nossart.nl
SUMMARY:Open Atelierroute Gemert (1e en 2e Pinksterdag)
DESCRIPTION:De volgende editie van de tweejaarlijkse Open Atelier Route Gemert is gepland met Pinksteren 2024\, op zondag 19 en maandag 20 mei.\nDeze wordt gehouden in:\n– De Harmoniezaal van harmonie Excelsior\, (Vondellaan 53)\n– het naastgelegen KunstLokaal\, (Vondellaan 49)\n– cultuurhuis De Eendracht\, (Sint-Annastraat 60)\n– de erachter gelegen De Bunker \, (Sint-Annastraat 60)\n– de kapel van voormalige klooster Nazareth\, (Hof van Nazareth 53)\n– en bij enkele kunstenaars in hun ateliers aan huis.
URL:https://www.nossart.nl/event/open-atelierroute-gemert/
LOCATION:Atelier Nicole van Oss\, Fielepien 4\, Gemert\, 5422 DL
END:VEVENT
BEGIN:VEVENT
DTSTART;VALUE=DATE:20240329
DTEND;VALUE=DATE:20240510
DTSTAMP:20260424T153620
CREATED:20220802T141042Z
LAST-MODIFIED:20240326T094732Z
UID:3700-1711670400-1715299199@www.nossart.nl
SUMMARY:29 maart - 9 mei 2024 Duo-expositie 'ORGANICS: Nature speaks' CaroArtGallery Deventer
DESCRIPTION:
URL:https://www.nossart.nl/event/expositie-caro-art-gallery-deventer/
LOCATION:CaroArtGallery\, Golstraat 7\, Deventer\, 7411 BN
END:VEVENT
BEGIN:VEVENT
DTSTART;VALUE=DATE:20230701
DTEND;VALUE=DATE:20230901
DTSTAMP:20260424T153620
CREATED:20230515T090858Z
LAST-MODIFIED:20230719T085853Z
UID:3873-1688169600-1693526399@www.nossart.nl
SUMMARY:Expositie 'Little Art' 2023 - Caro art Gallery Deventer
DESCRIPTION:CaroArtGallery pakt uit!\nLittle Art 2023\nVOOR DE EERSTE KEER in Nederland : \nCaroArtGallery presenteert van 1 juli t/m 31 augustus 2023 de allereerste editie van een unieke\, inspirerende klein-formaat kunstexpositie: \nLittle Art 2023! \nTijdens deze gloednieuwe kunstexpositie zullen 43 professionele kunstenaars zich presenteren met een serie van 4 kunstwerken in het formaat 20×20 cm\, met een hedendaags thema: ‘Transformation’. \nUniek\, verrassend en inspirerend! \nKunstcatalogus Little Art 2023 \nBij dit kunstevent zal ook een professionele\, kleurrijke\, ruim 100 pagina’s tellende kunstcatalogus worden uitgegeven\, waarin alle 43 exposerende kunstenaars worden vertegenwoordigd. Een unieke uitgave\, boordevol kunst en kunstverhalen. \nAlle informatie over deze catalogus (samenstelling\, prijs\, pre-order list\, etc) kun je vinden onder het kopje “kunstcatalogus” op de volledige pagina van Little Art 2023. \nMeer informatie? ga naar www.caroartgallery.com/little-art-kunstcatalogus \nOverige informatie: \nLittle Art 2023: \nGrande Opening (invites only): 1 juli 2023 \nOpen voor publiek: 2 juli t/m 31 augustus 2023 \nOpeningstijden galerie: wo t/m vrij 10 – 16 uur \n​ zaterdagen: 11.00 – 16.00 uur \nCaro Art Gallery \nGolstraat 7\, \n7411BN Deventer
URL:https://www.nossart.nl/event/little-art-2023-caro-art-gallery/
LOCATION:Caro Art Gallery\, Golstraat 7\, Deventer\, 7411 BN
END:VEVENT
BEGIN:VEVENT
DTSTART;TZID=UTC:20220821T120000
DTEND;TZID=UTC:20220821T170000
DTSTAMP:20260424T153620
CREATED:20220504T122715Z
LAST-MODIFIED:20220504T122715Z
UID:3639-1661083200-1661101200@www.nossart.nl
SUMMARY:Deelnemer Kunstmarkt Gemert
DESCRIPTION:
URL:https://www.nossart.nl/event/deelnemer-kunstmarkt-gemert/
END:VEVENT
BEGIN:VEVENT
DTSTART;TZID=UTC:20220606T120000
DTEND;TZID=UTC:20220606T170000
DTSTAMP:20260424T153620
CREATED:20220504T122406Z
LAST-MODIFIED:20220504T122915Z
UID:3636-1654516800-1654534800@www.nossart.nl
SUMMARY:Open Atelierroute Gemert - 2e Pinksterdag
DESCRIPTION:https://www.openatelierroutegemert.nl/nicolevanoss/
URL:https://www.nossart.nl/event/open-atelierroute-gemert-2e-pinksterdag/
END:VEVENT
BEGIN:VEVENT
DTSTART;TZID=UTC:20220605T120000
DTEND;TZID=UTC:20220605T170000
DTSTAMP:20260424T153620
CREATED:20220504T122309Z
LAST-MODIFIED:20220504T123014Z
UID:3634-1654430400-1654448400@www.nossart.nl
SUMMARY:Open Atelierroute Gemert - 1e Pinsterdag
DESCRIPTION:https://www.openatelierroutegemert.nl/nicolevanoss/
URL:https://www.nossart.nl/event/open-atelierroute-gemert-1e-pinsterdag/
END:VEVENT
BEGIN:VEVENT
DTSTART;TZID=UTC:20220410T110000
DTEND;TZID=UTC:20220410T170000
DTSTAMP:20260424T153620
CREATED:20220211T123119Z
LAST-MODIFIED:20220211T123119Z
UID:3585-1649588400-1649610000@www.nossart.nl
SUMMARY:Kunstmarkt Kempenmuseum De Acht Zaligheden
DESCRIPTION:Deelnemer aan de kunstmarkt in de tuin van Kempenmuseum De Acht Zaligheden. \nZondag 10 april van 11:00-17:00 \nKapelweg 2 in Eersel
URL:https://www.nossart.nl/event/kunstmarkt-kempenmuseum-de-acht-zaligheden/
END:VEVENT
BEGIN:VEVENT
DTSTART;TZID=UTC:20210627T100000
DTEND;TZID=UTC:20210627T170000
DTSTAMP:20260424T153620
CREATED:20200527T101119Z
LAST-MODIFIED:20210429T122714Z
UID:2833-1624788000-1624813200@www.nossart.nl
SUMMARY:Deelnemer Landelijk Atelierweekend
DESCRIPTION:Op 26 en 27 juni 2021 ben ik deelnemer aan het Landelijk Atelierweekend. \nMaak  hier een afspraak voor uw bezoek. \nKijk voor informatie op Landelijk Atelierweekend \nTot ziens! Uiteraard op gepaste afstand.
URL:https://www.nossart.nl/event/landelijk-atelierweekend/
END:VEVENT
BEGIN:VEVENT
DTSTART;TZID=UTC:20210626T100000
DTEND;TZID=UTC:20210626T170000
DTSTAMP:20260424T153620
CREATED:20200527T101242Z
LAST-MODIFIED:20210429T122841Z
UID:2837-1624701600-1624726800@www.nossart.nl
SUMMARY:Deelnemer Landelijk Atelierweekend
DESCRIPTION:Op 26 en 27 juni 2021 ben ik deelnemer aan het Landelijk Atelierweekend. \nMaak  hier een afspraak voor uw bezoek. \nKijk voor informatie op Landelijk Atelierweekend \nTot ziens! Uiteraard op gepaste afstand. \n 
URL:https://www.nossart.nl/event/deelnemer-landelijk-atelierweekend/
END:VEVENT
BEGIN:VEVENT
DTSTART;VALUE=DATE:20210608
DTEND;VALUE=DATE:20210726
DTSTAMP:20260424T153620
CREATED:20201213T151710Z
LAST-MODIFIED:20201213T151721Z
UID:3314-1623110400-1627257599@www.nossart.nl
SUMMARY:Expositie bij Micksart Collectief in Emmen
DESCRIPTION:
URL:https://www.nossart.nl/event/expositie-bij-micksart-collectief-in-emmen/
END:VEVENT
BEGIN:VEVENT
DTSTART;VALUE=DATE:20200531
DTEND;VALUE=DATE:20200602
DTSTAMP:20260424T153620
CREATED:20200214T141311Z
LAST-MODIFIED:20200729T084335Z
UID:2299-1590883200-1591055999@www.nossart.nl
SUMMARY:Open Atelierroute Gemert 2020
DESCRIPTION:Vervalt vanwege het coronavirus – mogelijk nieuwe datum volgt
URL:https://www.nossart.nl/event/open-atelierroute-gemert-2020/
LOCATION:Kasteel Gemert
END:VEVENT
BEGIN:VEVENT
DTSTART;TZID=UTC:20200419T110000
DTEND;TZID=UTC:20200419T170000
DTSTAMP:20260424T153620
CREATED:20191019T143747Z
LAST-MODIFIED:20200729T084412Z
UID:2149-1587294000-1587315600@www.nossart.nl
SUMMARY:Kunstmarkt - In de tuin van het Kempenmuseum\, Eersel
DESCRIPTION:Kunstmarkt – Kempenmuseum\nKapelweg 2\, 5521 JJ Eersel \nVan 11:00 tot 17:00 uur in de tuin van het Kempenmuseum De Acht Zaligheden  \nHelaas gecanceld vanwege het Coronavirus.
URL:https://www.nossart.nl/event/kunstmarkt-in-de-tuin-van-het-kempenmuseum/
LOCATION:Eersel\, Kapelweg 2\, Eersel
END:VEVENT
END:VCALENDAR