BEGIN:VCALENDAR
VERSION:2.0
PRODID:-//Nicole van Oss - ECPv6.15.20//NONSGML v1.0//EN
CALSCALE:GREGORIAN
METHOD:PUBLISH
X-WR-CALNAME:Nicole van Oss
X-ORIGINAL-URL:https://www.nossart.nl
X-WR-CALDESC:Evenementen voor Nicole van Oss
REFRESH-INTERVAL;VALUE=DURATION:PT1H
X-Robots-Tag:noindex
X-PUBLISHED-TTL:PT1H
BEGIN:VTIMEZONE
TZID:UTC
BEGIN:STANDARD
TZOFFSETFROM:+0000
TZOFFSETTO:+0000
TZNAME:UTC
DTSTART:20180101T000000
END:STANDARD
END:VTIMEZONE
BEGIN:VEVENT
DTSTART;VALUE=DATE:20190518
DTEND;VALUE=DATE:20190520
DTSTAMP:20260425T142045
CREATED:20190429T123229Z
LAST-MODIFIED:20190429T125324Z
UID:1813-1558137600-1558310399@www.nossart.nl
SUMMARY:Expositie - Open atelier
DESCRIPTION:
URL:https://www.nossart.nl/event/expositie-open-atelier/
LOCATION:Fielepien 4\, Gemert\, Nederland\, 5422 DL
ORGANIZER;CN="nOssArt":MAILTO:info@nossart.nl
END:VEVENT
END:VCALENDAR