BEGIN:VCALENDAR
VERSION:2.0
PRODID:-//Nicole van Oss - ECPv6.15.20//NONSGML v1.0//EN
CALSCALE:GREGORIAN
METHOD:PUBLISH
X-ORIGINAL-URL:https://www.nossart.nl
X-WR-CALDESC:Evenementen voor Nicole van Oss
REFRESH-INTERVAL;VALUE=DURATION:PT1H
X-Robots-Tag:noindex
X-PUBLISHED-TTL:PT1H
BEGIN:VTIMEZONE
TZID:UTC
BEGIN:STANDARD
TZOFFSETFROM:+0000
TZOFFSETTO:+0000
TZNAME:UTC
DTSTART:20230101T000000
END:STANDARD
END:VTIMEZONE
BEGIN:VEVENT
DTSTART;TZID=UTC:20240921T120000
DTEND;TZID=UTC:20240921T170000
DTSTAMP:20260425T165933
CREATED:20240728T173100Z
LAST-MODIFIED:20240728T173100Z
UID:4194-1726920000-1726938000@www.nossart.nl
SUMMARY:Deelnemer Nature Art Fair - Flower Art Museum - Aalsmeer
DESCRIPTION:
URL:https://www.nossart.nl/event/deelnemer-nature-art-fair-flower-art-museum-aalsmeer/
END:VEVENT
BEGIN:VEVENT
DTSTART;TZID=UTC:20240922T120000
DTEND;TZID=UTC:20240922T170000
DTSTAMP:20260425T165933
CREATED:20240728T173219Z
LAST-MODIFIED:20240728T173219Z
UID:4196-1727006400-1727024400@www.nossart.nl
SUMMARY:Deelnemer Nature Art Fair - Flower Art Museum - Aalsmeer
DESCRIPTION:
URL:https://www.nossart.nl/event/deelnemer-nature-art-fair-flower-art-museum-aalsmeer-2/
END:VEVENT
END:VCALENDAR