BEGIN:VCALENDAR
VERSION:2.0
PRODID:-//Nicole van Oss - ECPv6.15.20//NONSGML v1.0//EN
CALSCALE:GREGORIAN
METHOD:PUBLISH
X-WR-CALNAME:Nicole van Oss
X-ORIGINAL-URL:https://www.nossart.nl
X-WR-CALDESC:Evenementen voor Nicole van Oss
REFRESH-INTERVAL;VALUE=DURATION:PT1H
X-Robots-Tag:noindex
X-PUBLISHED-TTL:PT1H
BEGIN:VTIMEZONE
TZID:UTC
BEGIN:STANDARD
TZOFFSETFROM:+0000
TZOFFSETTO:+0000
TZNAME:UTC
DTSTART:20240101T000000
END:STANDARD
END:VTIMEZONE
BEGIN:VEVENT
DTSTART;VALUE=DATE:20251030
DTEND;VALUE=DATE:20251031
DTSTAMP:20260424T193744
CREATED:20250723T092118Z
LAST-MODIFIED:20250723T092308Z
UID:4610-1761782400-1761868799@www.nossart.nl
SUMMARY:Deelnemer Cultuurcafé Kunstkring Sint Anthonis
DESCRIPTION:Donderdag 30 oktober 2025 \nOntvangst: vanaf 19.30u \nAanvang: 20.00u \nLokatie: Ontmoetingscentrum Oelbroeck \nBreestraat 1d\, 5845 AX Sint Anthonis
URL:https://www.nossart.nl/event/deelnemer-cultuurcafe-kunstkring-sint-anthonis/
END:VEVENT
END:VCALENDAR